BEGIN:VCALENDAR
VERSION:2.0
PRODID:-//Xwísten - ECPv6.15.20//NONSGML v1.0//EN
CALSCALE:GREGORIAN
METHOD:PUBLISH
X-ORIGINAL-URL:https://xwisten.ca
X-WR-CALDESC:Events for Xwísten
REFRESH-INTERVAL;VALUE=DURATION:PT1H
X-Robots-Tag:noindex
X-PUBLISHED-TTL:PT1H
BEGIN:VTIMEZONE
TZID:America/Vancouver
BEGIN:DAYLIGHT
TZOFFSETFROM:-0800
TZOFFSETTO:-0700
TZNAME:PDT
DTSTART:20250309T100000
END:DAYLIGHT
BEGIN:STANDARD
TZOFFSETFROM:-0700
TZOFFSETTO:-0800
TZNAME:PST
DTSTART:20251102T090000
END:STANDARD
BEGIN:DAYLIGHT
TZOFFSETFROM:-0800
TZOFFSETTO:-0700
TZNAME:PDT
DTSTART:20260308T100000
END:DAYLIGHT
BEGIN:STANDARD
TZOFFSETFROM:-0700
TZOFFSETTO:-0800
TZNAME:PST
DTSTART:20261101T090000
END:STANDARD
BEGIN:DAYLIGHT
TZOFFSETFROM:-0800
TZOFFSETTO:-0700
TZNAME:PDT
DTSTART:20270314T100000
END:DAYLIGHT
BEGIN:STANDARD
TZOFFSETFROM:-0700
TZOFFSETTO:-0800
TZNAME:PST
DTSTART:20271107T090000
END:STANDARD
END:VTIMEZONE
BEGIN:VEVENT
DTSTART;TZID=America/Vancouver:20260430T170000
DTEND;TZID=America/Vancouver:20260430T200000
DTSTAMP:20260421T213826
CREATED:20260414T185149Z
LAST-MODIFIED:20260414T185920Z
UID:3876-1777568400-1777579200@xwisten.ca
SUMMARY:Community Dinner - FireSmart
DESCRIPTION:Join us for a COMMMUNITY DINNER and learn how we can work together to reduce wildfire risk in and around your homes. Thursday April 30\, 2026 5:00PM – Bridge River Indian Band Gymnasium
URL:https://xwisten.ca/event/community-dinner-firesmart/
LOCATION:Gym\, 1A Joseph Road\, Lillooet\, British Columbia\, V0K 1V0\, Canada
END:VEVENT
END:VCALENDAR